BEGIN:VCALENDAR
VERSION:2.0
PRODID:spatie/icalendar-generator
DESCRIPTION:Events from Southwest Association
X-WR-CALDESC:Events from Southwest Association
REFRESH-INTERVAL;VALUE=DURATION:PT1440M
X-PUBLISHED-TTL:PT1440M
BEGIN:VTIMEZONE
TZID:America/New_York
BEGIN:STANDARD
DTSTART:20241103T020000Z
TZOFFSETFROM:-0400
TZOFFSETTO:-0500
END:STANDARD
BEGIN:DAYLIGHT
DTSTART:20250309T020000Z
TZOFFSETFROM:-0500
TZOFFSETTO:-0400
END:DAYLIGHT
END:VTIMEZONE
BEGIN:VTIMEZONE
TZID:UTC
BEGIN:STANDARD
DTSTART:20250725T030828Z
TZOFFSETFROM:+0000
TZOFFSETTO:+0000
END:STANDARD
END:VTIMEZONE
BEGIN:VEVENT
UID:51-27
DTSTAMP:20260421T030828Z
SUMMARY:Council
LOCATION:
ORGANIZER;CN=Southwest Association:MAILTO:swamichucc@gmail.com
DTSTART;TZID=America/New_York:20250326T170000
DTEND;TZID=America/New_York:20250326T180000
X-ALT-DESC;FMTTYPE=TEXT/HTML:In-person with location to be determined.
CATEGORIES:General
URL;VALUE=URI:https://www.swamiucc.org/mc-events/council-6/
METHOD:PUBLISH
END:VEVENT
END:VCALENDAR