BEGIN:VCALENDAR
VERSION:2.0
PRODID:spatie/icalendar-generator
DESCRIPTION:Events from Southwest Association
X-WR-CALDESC:Events from Southwest Association
REFRESH-INTERVAL;VALUE=DURATION:PT1440M
X-PUBLISHED-TTL:PT1440M
BEGIN:VTIMEZONE
TZID:America/New_York
BEGIN:STANDARD
DTSTART:20241103T020000Z
TZOFFSETFROM:-0400
TZOFFSETTO:-0500
END:STANDARD
BEGIN:DAYLIGHT
DTSTART:20250309T020000Z
TZOFFSETFROM:-0500
TZOFFSETTO:-0400
END:DAYLIGHT
BEGIN:STANDARD
DTSTART:20251102T020000Z
TZOFFSETFROM:-0400
TZOFFSETTO:-0500
END:STANDARD
END:VTIMEZONE
BEGIN:VTIMEZONE
TZID:UTC
BEGIN:STANDARD
DTSTART:20250725T000159Z
TZOFFSETFROM:+0000
TZOFFSETTO:+0000
END:STANDARD
END:VTIMEZONE
BEGIN:VEVENT
UID:50-26
DTSTAMP:20260421T000159Z
SUMMARY:SWA Spring Gathering
LOCATION:Tower Hill Camp &amp;amp\; Retreat Center 12173 Tower Hill Road  Sawye
 r MI 49125
ORGANIZER;CN=Southwest Association:MAILTO:swamichucc@gmail.com
DTSTART;TZID=America/New_York:20250503T120000
DTEND;TZID=America/New_York:20250503T160000
X-ALT-DESC;FMTTYPE=TEXT/HTML:Times and program to be confirmed.
CATEGORIES:General
URL;VALUE=URI:https://www.swamiucc.org/mc-events/swa-spring-gathering/
METHOD:PUBLISH
END:VEVENT
END:VCALENDAR